BEGIN:VCALENDAR
VERSION:2.0
PRODID:-//Wentz&#039;s United Church of Christ - ECPv6.13.2.1//NONSGML v1.0//EN
CALSCALE:GREGORIAN
METHOD:PUBLISH
X-ORIGINAL-URL:https://wentzsucc.org
X-WR-CALDESC:Events for Wentz&#039;s United Church of Christ
REFRESH-INTERVAL;VALUE=DURATION:PT1H
X-Robots-Tag:noindex
X-PUBLISHED-TTL:PT1H
BEGIN:VTIMEZONE
TZID:America/New_York
BEGIN:DAYLIGHT
TZOFFSETFROM:-0500
TZOFFSETTO:-0400
TZNAME:EDT
DTSTART:20210314T070000
END:DAYLIGHT
BEGIN:STANDARD
TZOFFSETFROM:-0400
TZOFFSETTO:-0500
TZNAME:EST
DTSTART:20211107T060000
END:STANDARD
END:VTIMEZONE
BEGIN:VEVENT
DTSTART;TZID=America/New_York:20210307T080000
DTEND;TZID=America/New_York:20210404T170000
DTSTAMP:20260423T200649
CREATED:20210304T013750Z
LAST-MODIFIED:20210307T170817Z
UID:1221-1615104000-1617555600@wentzsucc.org
SUMMARY:Life is Sweet!
DESCRIPTION:Lent Is About Giving\, Not Giving Up\nThe season of Lent is usually considered a time of sacrifice.  This year\, many of us have already given up our simple pleasures including spending time with friends and family.  So\, instead of giving up one more thing this year\, Wentz’s is inviting you to give joy to others. \nFor families facing food insecurity\, necessity negates niceties. We want to change that.  Help spread joy by sharing a Birthday in a Bag.  By supplying a few items to make someone’s day special\, you can turn any day into a celebration! \nSelect a few items from the list below or others you may want to include\, place them in a gift bag\, and drop it off at Wentz’s any Saturday morning between now and April 3. \nSuggested themes:\nBirthday in a Bag – cake mix\, cupcake liners or cake doilies\, cooking oil\, frosting and/or decorating icing\, sprinkles\, candles\, plates\, napkins\, plastic ware\, tablecloths\, small decorations \nSweet Treats for Seniors – cake\, quick bread\, or cookie mix\, cooking oil\, small plates and napkins\, puzzle books\, notepad and pen \nBag Full of Sunshine – Cake\, cookie\, or bread mix\, cooking oil\, small plates and napkins\, small decorations\, small treats to brighten someone’s day
URL:https://wentzsucc.org/event/lets-all-eat-cake/
CATEGORIES:Charity
ATTACH;FMTTYPE=image/jpeg:https://wentzsucc.org/wp-content/uploads/2021/02/cupcakes.jpg
END:VEVENT
END:VCALENDAR