BEGIN:VCALENDAR
VERSION:2.0
PRODID:-//Wentz&#039;s United Church of Christ - ECPv6.13.2.1//NONSGML v1.0//EN
CALSCALE:GREGORIAN
METHOD:PUBLISH
X-ORIGINAL-URL:https://wentzsucc.org
X-WR-CALDESC:Events for Wentz&#039;s United Church of Christ
REFRESH-INTERVAL;VALUE=DURATION:PT1H
X-Robots-Tag:noindex
X-PUBLISHED-TTL:PT1H
BEGIN:VTIMEZONE
TZID:America/New_York
BEGIN:DAYLIGHT
TZOFFSETFROM:-0500
TZOFFSETTO:-0400
TZNAME:EDT
DTSTART:20240310T070000
END:DAYLIGHT
BEGIN:STANDARD
TZOFFSETFROM:-0400
TZOFFSETTO:-0500
TZNAME:EST
DTSTART:20241103T060000
END:STANDARD
BEGIN:DAYLIGHT
TZOFFSETFROM:-0500
TZOFFSETTO:-0400
TZNAME:EDT
DTSTART:20250309T070000
END:DAYLIGHT
BEGIN:STANDARD
TZOFFSETFROM:-0400
TZOFFSETTO:-0500
TZNAME:EST
DTSTART:20251102T060000
END:STANDARD
BEGIN:DAYLIGHT
TZOFFSETFROM:-0500
TZOFFSETTO:-0400
TZNAME:EDT
DTSTART:20260308T070000
END:DAYLIGHT
BEGIN:STANDARD
TZOFFSETFROM:-0400
TZOFFSETTO:-0500
TZNAME:EST
DTSTART:20261101T060000
END:STANDARD
END:VTIMEZONE
BEGIN:VEVENT
DTSTART;TZID=America/New_York:20240317T110000
DTEND;TZID=America/New_York:20240317T113000
DTSTAMP:20260425T113927
CREATED:20240307T105232Z
LAST-MODIFIED:20240318T005942Z
UID:2683-1710673200-1710675000@wentzsucc.org
SUMMARY:Congregational Meeting
DESCRIPTION:Immediately following worship to review and approve the annual report.
URL:https://wentzsucc.org/event/congregational-meeting/
LOCATION:Wentz’s UCC\, 3246 Skippack Pike\, Lansdale\, PA\, 19446
END:VEVENT
BEGIN:VEVENT
DTSTART;TZID=America/New_York:20240317T150000
DTEND;TZID=America/New_York:20240317T170000
DTSTAMP:20260425T113927
CREATED:20240307T105720Z
LAST-MODIFIED:20240307T105723Z
UID:2685-1710687600-1710694800@wentzsucc.org
SUMMARY:2024 Bowl-a-thon to support Mary's Shelter
DESCRIPTION:Bowl-a-thon held at Berks Lanes Bowling located on 3190 Shillington Road in Sinking Spring.  Help us raise money for Mary’s Shelter and enjoy a great afternoon of bowling\, fellowship\, and fun!  During the two hours of bowling\, each strike earned means both kids and adults get a chance to go to the prize table.  Winners for the most money raised will also be announced at the end of the event.  Food\, drinks\, and snacks provided! \n\n\n\nMary’s Shelter is a multi-faceted\, comprehensive housing and social service agency that addresses pregnancy\, parenting\, and youth homelessness through proactive work\, crisis intervention services\, and stabilization back into the community.
URL:https://wentzsucc.org/event/2024-bowl-a-thon-to-support-marys-shelter/
LOCATION:Berks Lanes Bowling\, 3190 Shillington Rd\, Sinking Spring\, Pennsylvania\, 19608
END:VEVENT
BEGIN:VEVENT
DTSTART;TZID=America/New_York:20240320T120000
DTEND;TZID=America/New_York:20240320T120000
DTSTAMP:20260425T113927
CREATED:20240307T110134Z
LAST-MODIFIED:20240318T012145Z
UID:2689-1710936000-1710936000@wentzsucc.org
SUMMARY:75+ Lunch Bunch
DESCRIPTION:Attention seniors…join Rev for lunch at Sammy’s Bullfrog Cafe located on 282 Hunsberger Lane in Harleysville (just down the road from Henning’s Market) for good food\, good fellowship\, and good fun!
URL:https://wentzsucc.org/event/75-lunch-bunch/
LOCATION:Sammy’s Bullfrog Cafe\, 282 Hunsberger Lane\, Harleysville\, Pennsylvania\, 19438
END:VEVENT
BEGIN:VEVENT
DTSTART;TZID=America/New_York:20240324T100000
DTEND;TZID=America/New_York:20240324T100000
DTSTAMP:20260425T113927
CREATED:20240307T110304Z
LAST-MODIFIED:20240318T012127Z
UID:2693-1711274400-1711274400@wentzsucc.org
SUMMARY:Palm Sunday
DESCRIPTION:The triumphant entry into Jerusalem
URL:https://wentzsucc.org/event/palm-sunday/
LOCATION:Wentz’s UCC\, 3246 Skippack Pike\, Lansdale\, PA\, 19446
END:VEVENT
BEGIN:VEVENT
DTSTART;TZID=America/New_York:20240328T190000
DTEND;TZID=America/New_York:20240328T190000
DTSTAMP:20260425T113927
CREATED:20240307T110454Z
LAST-MODIFIED:20240318T012109Z
UID:2695-1711652400-1711652400@wentzsucc.org
SUMMARY:Maundy Thursday
DESCRIPTION:Remembering the last meal of Jesus
URL:https://wentzsucc.org/event/maundy-thursday/
LOCATION:Wentz’s UCC\, 3246 Skippack Pike\, Lansdale\, PA\, 19446
END:VEVENT
BEGIN:VEVENT
DTSTART;TZID=America/New_York:20240329T190000
DTEND;TZID=America/New_York:20240329T190000
DTSTAMP:20260425T113927
CREATED:20240307T110703Z
LAST-MODIFIED:20240307T111129Z
UID:2697-1711738800-1711738800@wentzsucc.org
SUMMARY:Good Friday
DESCRIPTION:A service of forgiveness and healing
URL:https://wentzsucc.org/event/good-friday/
LOCATION:Wentz’s UCC\, 3246 Skippack Pike\, Lansdale\, PA\, 19446
END:VEVENT
BEGIN:VEVENT
DTSTART;TZID=America/New_York:20240331T100000
DTEND;TZID=America/New_York:20240331T100000
DTSTAMP:20260425T113927
CREATED:20240307T110752Z
LAST-MODIFIED:20240307T111055Z
UID:2699-1711879200-1711879200@wentzsucc.org
SUMMARY:Easter Sunday
DESCRIPTION:Resurrection Celebration
URL:https://wentzsucc.org/event/easter-sunday/
LOCATION:Wentz’s UCC\, 3246 Skippack Pike\, Lansdale\, PA\, 19446
END:VEVENT
BEGIN:VEVENT
DTSTART;TZID=America/New_York:20240413T160000
DTEND;TZID=America/New_York:20240413T160000
DTSTAMP:20260425T113927
CREATED:20240413T133417Z
LAST-MODIFIED:20240413T133419Z
UID:2819-1713024000-1713024000@wentzsucc.org
SUMMARY:The Becomers
DESCRIPTION:The new singles ministry\, The Becomers\, is one of fellowship for single adults of all genders\, sexual preferences\, and ages whether widowed\, divorced\, or never married. The group meets regularly with our next gathering on Saturday\, April 13th at 4:00pm at Giuseppe’s Pizzeria and Italian Ristorante (3509 W. Skippack Pike in Skippack). For more information\, please call us at 610.584.4855 or email at office@wentzsucc.org.
URL:https://wentzsucc.org/event/the-becomers-2024-04-13/
LOCATION:Giuseppe’s Pizzeria and Italian Ristorante\, 3509 W Skippack Pike\, Harleysville\, PA\, 19438
CATEGORIES:Fellowship
ATTACH;FMTTYPE=image/jpeg:https://wentzsucc.org/wp-content/uploads/2024/04/group-around-table.jpg
END:VEVENT
BEGIN:VEVENT
DTSTART;TZID=America/New_York:20240417T183000
DTEND;TZID=America/New_York:20240417T183000
DTSTAMP:20260425T113927
CREATED:20240413T125833Z
LAST-MODIFIED:20240413T131006Z
UID:2792-1713378600-1713378600@wentzsucc.org
SUMMARY:Book and a Beverage - Introduction & Chapter 1
DESCRIPTION:Join us as we travel together through Dr. Angela Parker’s If God Still Breathes\, Why Can’t I?: Black Lives Matter and Biblical Authority. \n\n\n\nAngela Parker\, Professor of New Testament and Greek at Mercer University’s McAfee School of Theology\, challenge common misconceptions of the Bible and how Christians have been taught more about Whiteness than the way of Jesus. \n\n\n\nAvailable on Amazon in Paperback\, Kindle or Audiobook.
URL:https://wentzsucc.org/event/book-and-a-beverage-2024-04-17/
LOCATION:Wentz’s UCC\, 3246 Skippack Pike\, Lansdale\, PA\, 19446
CATEGORIES:Book Study
ATTACH;FMTTYPE=image/jpeg:https://wentzsucc.org/wp-content/uploads/2024/04/If-God-Still-Breathes-Why-Cant-I.jpg
END:VEVENT
BEGIN:VEVENT
DTSTART;TZID=America/New_York:20240417T193000
DTEND;TZID=America/New_York:20240417T193000
DTSTAMP:20260425T113927
CREATED:20240413T133912Z
LAST-MODIFIED:20240413T133914Z
UID:2825-1713382200-1713382200@wentzsucc.org
SUMMARY:Guild Meeting
DESCRIPTION:Wentz’s Guild is open to all members. The purpose of the Guild of Wentz’s United Church of Christ is to unite all members in Christian Fellowship\, render loving service toward all and to develop an understanding of the work of the entire church and realize unity through deepening spiritual life. Some of the projects and activities the Guild has led include the annual Christmas Bazaar\, Fastnacht dinners\, senior scholarships\, and mission luncheons. Our efforts support many benevolences throughout the year. We welcome your ideas\, suggestions\, and involvement to support our members and our community.
URL:https://wentzsucc.org/event/guild-meeting/
LOCATION:Wentz’s UCC\, 3246 Skippack Pike\, Lansdale\, PA\, 19446
CATEGORIES:Meetings
ATTACH;FMTTYPE=image/png:https://wentzsucc.org/wp-content/uploads/2024/04/guildImage.png
END:VEVENT
BEGIN:VEVENT
DTSTART;TZID=America/New_York:20240418T130000
DTEND;TZID=America/New_York:20240418T130000
DTSTAMP:20260425T113927
CREATED:20240413T131650Z
LAST-MODIFIED:20240413T131652Z
UID:2805-1713445200-1713445200@wentzsucc.org
SUMMARY:Book and a Beverage - Introduction & Chapter 1
DESCRIPTION:Join us as we travel together through Dr. Angela Parker’s If God Still Breathes\, Why Can’t I?: Black Lives Matter and Biblical Authority. \n\n\n\nAngela Parker\, Professor of New Testament and Greek at Mercer University’s McAfee School of Theology\, challenge common misconceptions of the Bible and how Christians have been taught more about Whiteness than the way of Jesus. \n\n\n\nAvailable on Amazon in Paperback\, Kindle or Audiobook.
URL:https://wentzsucc.org/event/book-and-a-beverage-2024-04-18/
LOCATION:TimeOut\, 4024 West Skippack Pike\, Skippack\, PA\, 19474
CATEGORIES:Book Study
ATTACH;FMTTYPE=image/jpeg:https://wentzsucc.org/wp-content/uploads/2024/04/If-God-Still-Breathes-Why-Cant-I.jpg
END:VEVENT
BEGIN:VEVENT
DTSTART;TZID=America/New_York:20240421T110000
DTEND;TZID=America/New_York:20240421T110000
DTSTAMP:20260425T113927
CREATED:20240307T111534Z
LAST-MODIFIED:20240307T111940Z
UID:2708-1713697200-1713697200@wentzsucc.org
SUMMARY:New Member Conversations
DESCRIPTION:Come\, See\, Experience! Following worship. \n\n\n\nWe believe our lives are constantly being formed and “reformed” by God’s love for us and our love of humanity.  Our services reflect our ever-evolving relationship with God and the community.
URL:https://wentzsucc.org/event/new-member-conversations_20240421/
LOCATION:Wentz’s UCC\, 3246 Skippack Pike\, Lansdale\, PA\, 19446
END:VEVENT
BEGIN:VEVENT
DTSTART;TZID=America/New_York:20240427T080000
DTEND;TZID=America/New_York:20240427T080000
DTSTAMP:20260425T113927
CREATED:20240308T114008Z
LAST-MODIFIED:20240318T003119Z
UID:2730-1714204800-1714204800@wentzsucc.org
SUMMARY:Wentz's UCC 14th Annual Community Auction
DESCRIPTION:Collectibles\, tools\, furniture\, services\, household merchandise\, live plants.  Food and beverages available for purchase.  Preview at 8:00am.  Auction begins at 9:00am. \n\n\n\nView the items available.
URL:https://wentzsucc.org/event/wentzs-ucc-14th-annual-community-auction/
LOCATION:Wentz’s UCC\, 3246 Skippack Pike\, Lansdale\, PA\, 19446
END:VEVENT
BEGIN:VEVENT
DTSTART;TZID=America/New_York:20240428T110000
DTEND;TZID=America/New_York:20240428T110000
DTSTAMP:20260425T113927
CREATED:20240308T104902Z
LAST-MODIFIED:20240308T110520Z
UID:2725-1714302000-1714302000@wentzsucc.org
SUMMARY:New Member Conversations
DESCRIPTION:Come\, See\, Experience! Following Worship. \n\n\n\nWe believe our lives are constantly being formed and “reformed” by God’s love for us and our love of humanity.  Our services reflect our ever-evolving relationship with God and the community.
URL:https://wentzsucc.org/event/newmemberconversations_20240428/
LOCATION:Wentz’s UCC\, 3246 Skippack Pike\, Lansdale\, PA\, 19446
END:VEVENT
BEGIN:VEVENT
DTSTART;TZID=America/New_York:20240501T183000
DTEND;TZID=America/New_York:20240501T183000
DTSTAMP:20260425T113927
CREATED:20240413T130230Z
LAST-MODIFIED:20240413T131033Z
UID:2796-1714588200-1714588200@wentzsucc.org
SUMMARY:Book and a Beverage - Chapters 2 & 3
DESCRIPTION:Join us as we travel together through Dr. Angela Parker’s If God Still Breathes\, Why Can’t I?: Black Lives Matter and Biblical Authority. \n\n\n\nAngela Parker\, Professor of New Testament and Greek at Mercer University’s McAfee School of Theology\, challenge common misconceptions of the Bible and how Christians have been taught more about Whiteness than the way of Jesus. \n\n\n\nAvailable on Amazon in Paperback\, Kindle or Audiobook.
URL:https://wentzsucc.org/event/book-and-a-beverage-2024-05-01/
LOCATION:Wentz’s UCC\, 3246 Skippack Pike\, Lansdale\, PA\, 19446
CATEGORIES:Book Study
ATTACH;FMTTYPE=image/jpeg:https://wentzsucc.org/wp-content/uploads/2024/04/If-God-Still-Breathes-Why-Cant-I.jpg
END:VEVENT
BEGIN:VEVENT
DTSTART;TZID=America/New_York:20240502T130000
DTEND;TZID=America/New_York:20240502T130000
DTSTAMP:20260425T113927
CREATED:20240413T131836Z
LAST-MODIFIED:20240413T131838Z
UID:2809-1714654800-1714654800@wentzsucc.org
SUMMARY:Book and a Beverage - Chapters 2 & 3
DESCRIPTION:Join us as we travel together through Dr. Angela Parker’s If God Still Breathes\, Why Can’t I?: Black Lives Matter and Biblical Authority. \n\n\n\nAngela Parker\, Professor of New Testament and Greek at Mercer University’s McAfee School of Theology\, challenge common misconceptions of the Bible and how Christians have been taught more about Whiteness than the way of Jesus. \n\n\n\nAvailable on Amazon in Paperback\, Kindle or Audiobook.
URL:https://wentzsucc.org/event/book-and-a-beverage-2024-05-02/
LOCATION:TimeOut\, 4024 West Skippack Pike\, Skippack\, PA\, 19474
CATEGORIES:Book Study
ATTACH;FMTTYPE=image/jpeg:https://wentzsucc.org/wp-content/uploads/2024/04/If-God-Still-Breathes-Why-Cant-I.jpg
END:VEVENT
BEGIN:VEVENT
DTSTART;TZID=America/New_York:20240505T110000
DTEND;TZID=America/New_York:20240505T110000
DTSTAMP:20260425T113927
CREATED:20240307T111807Z
LAST-MODIFIED:20240307T112120Z
UID:2712-1714906800-1714906800@wentzsucc.org
SUMMARY:New Member Conversations
DESCRIPTION:Come\, See\, Experience! Following Worship. \n\n\n\nWe believe our lives are constantly being formed and “reformed” by God’s love for us and our love of humanity.  Our services reflect our ever-evolving relationship with God and the community.
URL:https://wentzsucc.org/event/new-member-conversations-_20240505/
LOCATION:Wentz’s UCC\, 3246 Skippack Pike\, Lansdale\, PA\, 19446
END:VEVENT
BEGIN:VEVENT
DTSTART;TZID=America/New_York:20240515T183000
DTEND;TZID=America/New_York:20240515T183000
DTSTAMP:20260425T113927
CREATED:20240413T130551Z
LAST-MODIFIED:20240413T130931Z
UID:2799-1715797800-1715797800@wentzsucc.org
SUMMARY:Book and a Beverage - Chapter 4 & Conclusion
DESCRIPTION:Join us as we travel together through Dr. Angela Parker’s If God Still Breathes\, Why Can’t I?: Black Lives Matter and Biblical Authority. \n\n\n\nAngela Parker\, Professor of New Testament and Greek at Mercer University’s McAfee School of Theology\, challenge common misconceptions of the Bible and how Christians have been taught more about Whiteness than the way of Jesus. \n\n\n\nAvailable on Amazon in Paperback\, Kindle or Audiobook.
URL:https://wentzsucc.org/event/book-and-a-beverage-2024-05-15/
LOCATION:Wentz’s UCC\, 3246 Skippack Pike\, Lansdale\, PA\, 19446
CATEGORIES:Book Study
ATTACH;FMTTYPE=image/jpeg:https://wentzsucc.org/wp-content/uploads/2024/04/If-God-Still-Breathes-Why-Cant-I.jpg
END:VEVENT
BEGIN:VEVENT
DTSTART;TZID=America/New_York:20240516T130000
DTEND;TZID=America/New_York:20240516T130000
DTSTAMP:20260425T113927
CREATED:20240413T132039Z
LAST-MODIFIED:20240413T132042Z
UID:2811-1715864400-1715864400@wentzsucc.org
SUMMARY:Book and a Beverage - Chapter 4 & Conclusion
DESCRIPTION:Join us as we travel together through Dr. Angela Parker’s If God Still Breathes\, Why Can’t I?: Black Lives Matter and Biblical Authority. \n\n\n\nAngela Parker\, Professor of New Testament and Greek at Mercer University’s McAfee School of Theology\, challenge common misconceptions of the Bible and how Christians have been taught more about Whiteness than the way of Jesus. \n\n\n\nAvailable on Amazon in Paperback\, Kindle or Audiobook.
URL:https://wentzsucc.org/event/book-and-a-beverage-2024-05-16/
LOCATION:TimeOut\, 4024 West Skippack Pike\, Skippack\, PA\, 19474
CATEGORIES:Book Study
ATTACH;FMTTYPE=image/jpeg:https://wentzsucc.org/wp-content/uploads/2024/04/If-God-Still-Breathes-Why-Cant-I.jpg
END:VEVENT
BEGIN:VEVENT
DTSTART;TZID=America/New_York:20250209T100000
DTEND;TZID=America/New_York:20250209T110000
DTSTAMP:20260425T113927
CREATED:20250209T134647Z
LAST-MODIFIED:20250209T141034Z
UID:3032-1739095200-1739098800@wentzsucc.org
SUMMARY:No In-Person Worship Today - YouTube or Zoom Only
DESCRIPTION:Please join us online today.YouTubeZoom
URL:https://wentzsucc.org/event/no-in-person-worship-today-youtube-or-zoom-only/
LOCATION:PA
ATTACH;FMTTYPE=image/jpeg:https://wentzsucc.org/wp-content/uploads/2025/02/unnamed.jpg
END:VEVENT
BEGIN:VEVENT
DTSTART;TZID=America/New_York:20250426T080000
DTEND;TZID=America/New_York:20250426T130000
DTSTAMP:20260425T113927
CREATED:20250323T194703Z
LAST-MODIFIED:20250323T194909Z
UID:3064-1745654400-1745672400@wentzsucc.org
SUMMARY:Wentz's Community Auction
DESCRIPTION:Wentz’s annual community auction is coming up on April 26th. The doors open at 8:00am and the first item goes up for bid at 9:00am. See the link below for a preview of what will be featured.
URL:https://wentzsucc.org/event/wentzs-community-auction2025/
LOCATION:Wentz’s UCC\, 3246 Skippack Pike\, Lansdale\, PA\, 19446
ATTACH;FMTTYPE=image/jpeg:https://wentzsucc.org/wp-content/uploads/2022/04/auction-attribute.jpg
END:VEVENT
BEGIN:VEVENT
DTSTART;TZID=America/New_York:20260425T080000
DTEND;TZID=America/New_York:20260425T130000
DTSTAMP:20260425T113927
CREATED:20260313T162102Z
LAST-MODIFIED:20260313T162312Z
UID:3128-1777104000-1777122000@wentzsucc.org
SUMMARY:Wentz’s Community Auction
DESCRIPTION:Wentz’s annual community auction is coming up on April 25th. The doors open at 8:00am and the first item goes up for bid at 9:00am. See the link below for a preview of what will be featured.
URL:https://wentzsucc.org/event/wentzs-community-auction2026/
LOCATION:Wentz’s UCC\, 3246 Skippack Pike\, Lansdale\, PA\, 19446
END:VEVENT
END:VCALENDAR