BEGIN:VCALENDAR
VERSION:2.0
PRODID:-//Wentz&#039;s United Church of Christ - ECPv6.13.2.1//NONSGML v1.0//EN
CALSCALE:GREGORIAN
METHOD:PUBLISH
X-WR-CALNAME:Wentz&#039;s United Church of Christ
X-ORIGINAL-URL:https://wentzsucc.org
X-WR-CALDESC:Events for Wentz&#039;s United Church of Christ
REFRESH-INTERVAL;VALUE=DURATION:PT1H
X-Robots-Tag:noindex
X-PUBLISHED-TTL:PT1H
BEGIN:VTIMEZONE
TZID:America/New_York
BEGIN:DAYLIGHT
TZOFFSETFROM:-0500
TZOFFSETTO:-0400
TZNAME:EDT
DTSTART:20210314T070000
END:DAYLIGHT
BEGIN:STANDARD
TZOFFSETFROM:-0400
TZOFFSETTO:-0500
TZNAME:EST
DTSTART:20211107T060000
END:STANDARD
BEGIN:DAYLIGHT
TZOFFSETFROM:-0500
TZOFFSETTO:-0400
TZNAME:EDT
DTSTART:20220313T070000
END:DAYLIGHT
BEGIN:STANDARD
TZOFFSETFROM:-0400
TZOFFSETTO:-0500
TZNAME:EST
DTSTART:20221106T060000
END:STANDARD
BEGIN:DAYLIGHT
TZOFFSETFROM:-0500
TZOFFSETTO:-0400
TZNAME:EDT
DTSTART:20230312T070000
END:DAYLIGHT
BEGIN:STANDARD
TZOFFSETFROM:-0400
TZOFFSETTO:-0500
TZNAME:EST
DTSTART:20231105T060000
END:STANDARD
END:VTIMEZONE
BEGIN:VEVENT
DTSTART;TZID=America/New_York:20230903T100000
DTEND;TZID=America/New_York:20230903T110000
DTSTAMP:20260423T200235
CREATED:20230812T125514Z
LAST-MODIFIED:20230812T125515Z
UID:2441-1693735200-1693738800@wentzsucc.org
SUMMARY:Virtual Labor Day Weekend Worship Service
DESCRIPTION:
URL:https://wentzsucc.org/event/virtual-labor-day-weekend-worship-service/
LOCATION:PA
END:VEVENT
BEGIN:VEVENT
DTSTART;TZID=America/New_York:20230730T100000
DTEND;TZID=America/New_York:20230730T110000
DTSTAMP:20260423T200235
CREATED:20230723T013028Z
LAST-MODIFIED:20230723T013029Z
UID:2414-1690711200-1690714800@wentzsucc.org
SUMMARY:Blessing of the Animals
DESCRIPTION:
URL:https://wentzsucc.org/event/blessing-of-the-animals-2/
LOCATION:PA
CATEGORIES:Special Occations
END:VEVENT
BEGIN:VEVENT
DTSTART;TZID=America/New_York:20230727T091500
DTEND;TZID=America/New_York:20230727T121500
DTSTAMP:20260423T200235
CREATED:20230723T012035Z
LAST-MODIFIED:20230723T012037Z
UID:2412-1690449300-1690460100@wentzsucc.org
SUMMARY:Pets Unleashed VBS
DESCRIPTION:
URL:https://wentzsucc.org/event/pets-unleashed-vbs-3/
LOCATION:PA
CATEGORIES:VBS
ATTACH;FMTTYPE=image/jpeg:https://wentzsucc.org/wp-content/uploads/2023/06/pets-unleashed-vbs-logo-LoRes-RGB.jpg
END:VEVENT
BEGIN:VEVENT
DTSTART;TZID=America/New_York:20230726T091500
DTEND;TZID=America/New_York:20230726T121500
DTSTAMP:20260423T200235
CREATED:20230723T011942Z
LAST-MODIFIED:20230723T011943Z
UID:2410-1690362900-1690373700@wentzsucc.org
SUMMARY:Pets Unleashed VBS
DESCRIPTION:
URL:https://wentzsucc.org/event/pets-unleashed-vbs-2/
LOCATION:PA
CATEGORIES:VBS
ATTACH;FMTTYPE=image/jpeg:https://wentzsucc.org/wp-content/uploads/2023/06/pets-unleashed-vbs-logo-LoRes-RGB.jpg
END:VEVENT
BEGIN:VEVENT
DTSTART;TZID=America/New_York:20230725T091500
DTEND;TZID=America/New_York:20230725T121500
DTSTAMP:20260423T200235
CREATED:20230723T011408Z
LAST-MODIFIED:20230723T011654Z
UID:2408-1690276500-1690287300@wentzsucc.org
SUMMARY:Pets Unleashed VBS
DESCRIPTION:
URL:https://wentzsucc.org/event/pets-unleashed-vbs/
LOCATION:PA
CATEGORIES:VBS
ATTACH;FMTTYPE=image/jpeg:https://wentzsucc.org/wp-content/uploads/2023/06/pets-unleashed-vbs-logo-LoRes-RGB.jpg
END:VEVENT
BEGIN:VEVENT
DTSTART;TZID=America/New_York:20230429T080000
DTEND;TZID=America/New_York:20230429T130000
DTSTAMP:20260423T200235
CREATED:20230329T210405Z
LAST-MODIFIED:20230523T001215Z
UID:2170-1682755200-1682773200@wentzsucc.org
SUMMARY:Wentz's Community Auction
DESCRIPTION:Wentz’s annual community auction is coming up on April 29th. The doors open at 8:00am and the first item goes up for bid at 9:00am. See the link below for a preview of what will be featured.
URL:https://wentzsucc.org/event/wentzs-community-auction/
LOCATION:PA
CATEGORIES:Special Occations
ATTACH;FMTTYPE=image/jpeg:https://wentzsucc.org/wp-content/uploads/2022/04/auction-attribute.jpg
END:VEVENT
BEGIN:VEVENT
DTSTART;TZID=America/New_York:20221022T180000
DTEND;TZID=America/New_York:20221022T200000
DTSTAMP:20260423T200235
CREATED:20221003T234634Z
LAST-MODIFIED:20221003T235426Z
UID:2088-1666461600-1666468800@wentzsucc.org
SUMMARY:Creep it Real!
DESCRIPTION:
URL:https://wentzsucc.org/event/creep-it-real-2/
LOCATION:PA
ATTACH;FMTTYPE=image/png:https://wentzsucc.org/wp-content/uploads/2022/10/Creep-It-Real-Flyer-2022-C.png
END:VEVENT
BEGIN:VEVENT
DTSTART;TZID=America/New_York:20221020T180000
DTEND;TZID=America/New_York:20221020T200000
DTSTAMP:20260423T200235
CREATED:20221016T112503Z
LAST-MODIFIED:20221016T112505Z
UID:2098-1666288800-1666296000@wentzsucc.org
SUMMARY:Pumpkin Carving
DESCRIPTION:Let the gourd times roll!  Carve out some time on Thursday\, October 20th from 6:00pm to 8:00pm to join in pumpkin carving\, sponsored by Wentz’s Guild.  Fun for all ages\, bring your family and friends!  From pumpkins to patterns to carving supplies…The Guild provides it all\, including snacks.  Pumpkins will be used to decorate the church for Creep It Real — come out on October 22nd to help us scare away hunger — and then you can take your pumpkins home in time for a gourd Halloween.  For the latest scoop\, please contact office@wentzsucc.org.  #GourdBigOrGourdHome
URL:https://wentzsucc.org/event/pumpkin-carving/
LOCATION:PA
ATTACH;FMTTYPE=image/jpeg:https://wentzsucc.org/wp-content/uploads/2022/10/jack-o-lanterns.jpg
END:VEVENT
BEGIN:VEVENT
DTSTART;TZID=America/New_York:20220430T080000
DTEND;TZID=America/New_York:20220430T080000
DTSTAMP:20260423T200235
CREATED:20220413T032915Z
LAST-MODIFIED:20220414T231059Z
UID:2048-1651305600-1651305600@wentzsucc.org
SUMMARY:PUBLIC AUCTION
DESCRIPTION:PUBLIC AUCTION \n\n\n\n11TH ANNUAL \n\n\n\nSaturday\, April 30\, 2022 \n\n\n\nWENTZ’S COMMUNITY AUCTION \n\n\n\nPreview 8 am         Auction Starts 9 am            \n\n\n\nWentz’s United Church of Christ \n\n\n\n3246 Skippack Pike \n\n\n\nLansdale (Worcester Township) PA 19446 \n\n\n\nFor a complete list visit \n\n\n\nwww.wentzsucc.org   (click on auction) \n\n\n\nCall 215-855-6541 \n\n\n\nCOLLECTIBLES\, TOOLS\, FURNITURE\, SERVICES\,  \n\n\n\nHOUSEHOLD MERCHANDISE \n\n\n\nFood and beverages served \n\n\n\n \n\n\n\n\n\n\n\n\n\n\n\n\n\n\n\n\n\n\n\n\n\n\n\n\n\n\n\n\n\n\n\n\n\n\n\n\n\n\n\n\n\n\n\n\n\n\n\n\n\n\n\n\n\n\n\n 2019 John Deere Z345m 22HP 42″ Cut Zero Turn tractor with 23 hours C Clamps Wood High Chair Cedar Chest Waterford CrystalBelleek Gift Set 1951 U.S.A gas can Ladder Rack
URL:https://wentzsucc.org/event/2048/
LOCATION:PA
END:VEVENT
BEGIN:VEVENT
DTSTART;TZID=America/New_York:20220303T190000
DTEND;TZID=America/New_York:20220303T203000
DTSTAMP:20260423T200235
CREATED:20220302T004654Z
LAST-MODIFIED:20220302T004656Z
UID:1996-1646334000-1646339400@wentzsucc.org
SUMMARY:Lenten Book Conversation "Freeing Jesus"
DESCRIPTION:“How can you still be a Christian? This is the most common question Diana Butler Bass is asked today. It is a question that many believers ponder as they wrestle with disappointment and disillusionment in their church and its leadership. But while many Christians have left their churches\, they cannot leave their faith behind.  \n\n\n\nIn Freeing Jesus\, Bass challenges the idea that Jesus can only be understood in static\, one-dimensional ways and asks us to instead consider a life where Jesus grows with us and helps us through life’s challenges in several capacities: as Friend\, Teacher\, Savior\, Lord\, Way\, and Presence.”   The book is available at major outlets\, including Amazon and Target stores. \n\n\n\nWe will meet for six Thursday evening sessions beginning Thursday\, March 3 at 7:00 p.m. on Zoom.  Contact Pastor Dale if you have any questions or want to register your interest at dale@wentzsucc.org  
URL:https://wentzsucc.org/event/lenten-book-conversation-freeing-jesus/
LOCATION:PA
ATTACH;FMTTYPE=image/png:https://wentzsucc.org/wp-content/uploads/2022/03/unnamed.png
END:VEVENT
BEGIN:VEVENT
DTSTART;TZID=America/New_York:20211204T090000
DTEND;TZID=America/New_York:20211204T130000
DTSTAMP:20260423T200235
CREATED:20211119T120703Z
LAST-MODIFIED:20211119T120707Z
UID:1970-1638608400-1638622800@wentzsucc.org
SUMMARY:Annual Christmas Bazaar
DESCRIPTION:Kick-off the Christmas season with our annual Christmas Bazaar!  We have all your traditional favorites this year\, including our Christmas cookies and homemade soups and applesauce as well as boutique items\, jewelry\, Christmas crafts\, decor and so much more! Check off your gift list with Wentz’s! \n\n\n\n\n\n\n\n\n\nWant to skip the lines?  You can pre-order cookies\, soup\, and applesauce!\n\n\n\nClick on the button below to pre-order some of your traditional Wentz’s favorites! Our elves have been busy in the kitchen so you don’t need to be.  Order on-line today! \n\n\n\n\nShop Now\n\n\n\n\nPre-order pick is available December 3 from 3-6pm.
URL:https://wentzsucc.org/event/annual-christmas-bazaar/
LOCATION:PA
END:VEVENT
BEGIN:VEVENT
DTSTART;TZID=America/New_York:20211023T180000
DTEND;TZID=America/New_York:20211023T200000
DTSTAMP:20260423T200235
CREATED:20211016T161334Z
LAST-MODIFIED:20211016T161338Z
UID:1944-1635012000-1635019200@wentzsucc.org
SUMMARY:Creep It Real!
DESCRIPTION:
URL:https://wentzsucc.org/event/creep-it-real/
LOCATION:PA
END:VEVENT
BEGIN:VEVENT
DTSTART;TZID=America/New_York:20211009T160000
DTEND;TZID=America/New_York:20211009T180000
DTSTAMP:20260423T200235
CREATED:20210909T000037Z
LAST-MODIFIED:20210925T161704Z
UID:1873-1633795200-1633802400@wentzsucc.org
SUMMARY:OktoberWentz
DESCRIPTION:All meals must be pre-ordered by Sunday\, October 3.  \n\n\n\nLooking for a fun way to celebrate the arrival of Fall? Join us for OktoberWentz! \n\n\n\nOur tasty take-out menu is inspired by traditional German favorites. Order your meals today\, then pick them up at Wentz’s United Church of Christ on Saturday\, October 9 from 4-6 p.m. Take them home\, or bring your chair or blanket and find a cozy\, socially respectful spot to dine. \n\n\n\nFeaturing DJ Chris Evans and beer sales on-site during the event by Ten7 Brewing Company. Free mini pumpkins for the kiddos! \n\n\n\nMeal proceeds benefit improvements at Wentz’s UCC and Wentz’s Preschool.
URL:https://wentzsucc.org/event/oktoberwentz/
LOCATION:PA
END:VEVENT
BEGIN:VEVENT
DTSTART;TZID=America/New_York:20211001T193000
DTEND;TZID=America/New_York:20211001T230000
DTSTAMP:20260423T200235
CREATED:20210924T001105Z
LAST-MODIFIED:20210924T001220Z
UID:1918-1633116600-1633129200@wentzsucc.org
SUMMARY:FREE Outdoor Movie
DESCRIPTION:FREE fun for the whole family!  Bring your favorite movie snacks and join us on the lawn behind the cemetery for a great night.  You’ll be dancing and singing with Shrek\, Donkey\, Princess Fiona and all of Happily Ever After!
URL:https://wentzsucc.org/event/free-outdoor-movie-2/
LOCATION:PA
END:VEVENT
BEGIN:VEVENT
DTSTART;TZID=America/New_York:20210917T193000
DTEND;TZID=America/New_York:20210917T230000
DTSTAMP:20260423T200235
CREATED:20210717T224920Z
LAST-MODIFIED:20210811T193032Z
UID:1835-1631907000-1631919600@wentzsucc.org
SUMMARY:FREE Outdoor Movie
DESCRIPTION:With school back in full swing\, it’s time to celebrate the last few days of summer with our last outdoor movie of the season!  It’s a FREE night out with the kiddos and Dr. Seuss’s classic\, The Lorax (2012) .  Giggle\, cry\, and sing along to this wonderfully imagined story of how we can make the world a better place.
URL:https://wentzsucc.org/event/free-outdoor-movie/
LOCATION:PA
END:VEVENT
BEGIN:VEVENT
DTSTART;TZID=America/New_York:20210911T090000
DTEND;TZID=America/New_York:20210911T130000
DTSTAMP:20260423T200235
CREATED:20210908T162255Z
LAST-MODIFIED:20210908T190229Z
UID:1869-1631350800-1631365200@wentzsucc.org
SUMMARY:Hidden Treasures Sale
DESCRIPTION:If you’ve ever shopped for Attic Treasures at our annual Christmas Bazaar\, you’re going to LOVE our new fall sale\, Hidden Treasures.  Stop by and shop!  You’ll find BIG surprises for small prices!
URL:https://wentzsucc.org/event/hidden-treasures-sale/
LOCATION:PA
END:VEVENT
BEGIN:VEVENT
DTSTART;TZID=America/New_York:20210813T193000
DTEND;TZID=America/New_York:20210813T230000
DTSTAMP:20260423T200235
CREATED:20210717T215446Z
LAST-MODIFIED:20210811T192738Z
UID:1831-1628883000-1628895600@wentzsucc.org
SUMMARY:A Night Under the Stars
DESCRIPTION:Kick off your summer weekend with a Friday night worship service under the stars\, followed by a FREE outdoor movie! We’ll gather for our evening outdoor service at 7:30 pm.  After worship\, get ready to blast off to a galaxy far\, far away.  The Force will be strong with you watching “STAR WARS: A New Hope” outside on the big screen!  \n\n\n\n\n\n\n\nAll activities will take place in the lawn area below the church cemetery.  Please follow the signs for convenient parking.    \n\n\n\nBe sure to bring your blanket or lawn chair\, as well as your favorite movie snacks!   \n\n\n\nSummer weather can be somewhat wild and unpredictable.  In case of inclement weather\, we will reschedule.  Be sure to check here for any updates.
URL:https://wentzsucc.org/event/service-under-the-stars/
LOCATION:PA
CATEGORIES:Children,Special Occations
ATTACH;FMTTYPE=image/jpeg:https://wentzsucc.org/wp-content/uploads/2021/07/Under-the-stars-landscape.jpg
END:VEVENT
BEGIN:VEVENT
DTSTART;TZID=America/New_York:20210808T100000
DTEND;TZID=America/New_York:20210808T110000
DTSTAMP:20260423T200235
CREATED:20210717T202632Z
LAST-MODIFIED:20210717T202634Z
UID:1825-1628416800-1628420400@wentzsucc.org
SUMMARY:Blessing of the Animals
DESCRIPTION:Holy cow! Our annual Blessing of the Animals service returns on August 8. Our busy bees are planning an entertaining outdoor service celebrating our best pals – our beloved pets.  You and your favorite animals are invited to join with our Worship Leader\, Mike Todd\, who will prayerfully bless each and every one of our friendly beasts.  We’re not horsing around – all creatures big and small are welcome! We’ll have some special treats as well as tips for how to keep your pets healthy during the dog days of summer. \n\n\n\nIf you would like a special prayer offered for a pet or animal friend who has passed\, please feel free to share with laurab@wentzsucc.org. We will also have prayer cards available at the service.
URL:https://wentzsucc.org/event/blessing-of-the-animals/
LOCATION:PA
ATTACH;FMTTYPE=image/jpeg:https://wentzsucc.org/wp-content/uploads/2021/07/boa-sil.jpg
END:VEVENT
BEGIN:VEVENT
DTSTART;TZID=America/New_York:20210731T190000
DTEND;TZID=America/New_York:20210731T220000
DTSTAMP:20260423T200235
CREATED:20210717T204112Z
LAST-MODIFIED:20210717T204309Z
UID:1828-1627758000-1627768800@wentzsucc.org
SUMMARY:FREE Outdoor Movie Night - "Sing"
DESCRIPTION:What’s better than a movie under the stars? A FREE movie under the stars! Bring the whole family and enjoy movie night on us!  We’re screening the hit movie “Sing” (released in 2016).  Follow failing but optimistic theater owner (an adorable koala bear) Buster Moon as he puts together the show of all shows with an unlikely cast of characters.  Will it be a smash\, or will the show completely crash?  Get ready to sing your heart out as Buster and his wannabe stars discover the meaning of friendship. BYOB (bring your own blanket) and have some fun!
URL:https://wentzsucc.org/event/free-outdoor-movie-night-sing/
LOCATION:PA
CATEGORIES:Children,Special Occations
ATTACH;FMTTYPE=image/jpeg:https://wentzsucc.org/wp-content/uploads/2021/07/sing.jpg
END:VEVENT
BEGIN:VEVENT
DTSTART;TZID=America/New_York:20210725T100000
DTEND;TZID=America/New_York:20210725T110000
DTSTAMP:20260423T200235
CREATED:20210717T200057Z
LAST-MODIFIED:20210717T200059Z
UID:1820-1627207200-1627210800@wentzsucc.org
SUMMARY:Christmas in July
DESCRIPTION:Every day is a great day to celebrate the birth of our Lord and risen savior\, Jesus Christ!  And since we did not get to gather in-person for Christmas this past December\, now feels like the perfect time to spread some holiday cheer. The bells will be ringing\, folks will be singing (with masks on)\, and there’ll be lots of holly jolly fun!  So “Come\, All Ye Faithful” and enjoy the AC!
URL:https://wentzsucc.org/event/christmas-in-july/
LOCATION:PA
ATTACH;FMTTYPE=image/jpeg:https://wentzsucc.org/wp-content/uploads/2021/07/Christmas-in-July-2.jpg
END:VEVENT
BEGIN:VEVENT
DTSTART;TZID=America/New_York:20210721T190000
DTEND;TZID=America/New_York:20210721T200000
DTSTAMP:20260423T200235
CREATED:20210717T200000Z
LAST-MODIFIED:20210717T193946Z
UID:1753-1626894000-1626897600@wentzsucc.org
SUMMARY:20 Questions (For Thinking People of Faith)
DESCRIPTION:The United Church of Christ is an international leader in forwarding acceptance\, access\, and support for the LGBTQ+ community.  Yet\, the decision for a church to adopt an “Open and Affirming” covenant is unique journey for any congregation.  \n\n\n\nJoin us when we return on Wednesday\, July 21 at 7:00 pm for an informative and lively conversation about “ONA.  This will be Part 2 of our discussion with special guest Rev. Tom Ott.  Last week\, Rev. Ott shared his distinctly different experiences with three churches engaging in ONA journeys (you can view the video here).  He will join Pastor Dale Davis in answering your questions.
URL:https://wentzsucc.org/event/20-questions-for-thinking-people-of-faith/
LOCATION:PA
ATTACH;FMTTYPE=image/jpeg:https://wentzsucc.org/wp-content/uploads/2021/04/questions.jpg
END:VEVENT
BEGIN:VEVENT
DTSTART;TZID=America/New_York:20210509T100000
DTEND;TZID=America/New_York:20210509T110000
DTSTAMP:20260423T200235
CREATED:20210503T212857Z
LAST-MODIFIED:20210503T214203Z
UID:1714-1620554400-1620558000@wentzsucc.org
SUMMARY:Outdoor Worship
DESCRIPTION:We’re excited to welcome you to outdoor worship services May 9\, 16\, and 23.  Out of an abundance of caution\, all attendees are required to follow these safety precautions: \n\n\n\nBring your own chair/blanketWear a mask at all timesObserve social distancingSing with your heart\, not with your voice Stay home and join us on Zoom if you or another in our household is not feeling well\n\n\n\nAll outdoor services will be weather dependent. If we need to move to a Zoom-only format\, an email will be sent the night before.
URL:https://wentzsucc.org/event/outdoor-worship-service/
LOCATION:PA
END:VEVENT
BEGIN:VEVENT
DTSTART;TZID=America/New_York:20210404T100000
DTEND;TZID=America/New_York:20210404T110000
DTSTAMP:20260423T200235
CREATED:20210319T221327Z
LAST-MODIFIED:20210401T181159Z
UID:1621-1617530400-1617534000@wentzsucc.org
SUMMARY:Easter Sunday Service and Communion
DESCRIPTION:Join with Wentz’s UCC on Sunday\, April 4 at 10 a.m. to praise Christ’s resurrection and proclaim:  \n\n\n\nHe is risen!  He is risen indeed!
URL:https://wentzsucc.org/event/easter-sunday-service-and-communion/
LOCATION:PA
ATTACH;FMTTYPE=image/jpeg:https://wentzsucc.org/wp-content/uploads/2021/03/He-is-risen.jpg
END:VEVENT
BEGIN:VEVENT
DTSTART;TZID=America/New_York:20210404T093000
DTEND;TZID=America/New_York:20210404T100000
DTSTAMP:20260423T200235
CREATED:20210307T172146Z
LAST-MODIFIED:20210401T183518Z
UID:1327-1617528600-1617530400@wentzsucc.org
SUMMARY:Kaleidoscope for Kids
DESCRIPTION:Happy Easter!  Grab your Easter basket and join us for some fun as we discover unique holiday traditions from around the world!
URL:https://wentzsucc.org/event/kaleidoscope-for-kids/
LOCATION:PA
CATEGORIES:Bible,Children
ATTACH;FMTTYPE=image/jpeg:https://wentzsucc.org/wp-content/uploads/2021/03/Kaleidscope-updside-down.jpg
END:VEVENT
BEGIN:VEVENT
DTSTART;TZID=America/New_York:20210401T190000
DTEND;TZID=America/New_York:20210401T200000
DTSTAMP:20260423T200235
CREATED:20210319T220816Z
LAST-MODIFIED:20210401T200334Z
UID:1616-1617303600-1617307200@wentzsucc.org
SUMMARY:Maundy Thursday
DESCRIPTION:Maundy is the English form of the Latin word meaning “commandment.”  Jesus’ new commandment was for us to love one another just as Jesus loves us.  Join Wentz’s UCC for a special service celebrating Jesus’ message of love and remembering His sacrifice which brings us eternal hope. \n\n\n\nPlease remember to have a candle available to light.  Please have grape juice or wine and a piece of bread for communion.
URL:https://wentzsucc.org/event/maundy-thursday-evening-service-of-tenebrae-and-passion/
LOCATION:PA
ATTACH;FMTTYPE=image/jpeg:https://wentzsucc.org/wp-content/uploads/2021/03/tenebrae.jpg
END:VEVENT
BEGIN:VEVENT
DTSTART;TZID=America/New_York:20210328T100000
DTEND;TZID=America/New_York:20210328T110000
DTSTAMP:20260423T200235
CREATED:20210319T230000Z
LAST-MODIFIED:20210319T223353Z
UID:1232-1616925600-1616929200@wentzsucc.org
SUMMARY:Palm Sunday Worship Service
DESCRIPTION:Join Wentz’s United Church of Christ for our weekly Sunday worship service on Zoom.
URL:https://wentzsucc.org/event/worship-service-4/
LOCATION:PA
ATTACH;FMTTYPE=image/jpeg:https://wentzsucc.org/wp-content/uploads/2021/03/palms.jpg
END:VEVENT
BEGIN:VEVENT
DTSTART;TZID=America/New_York:20210321T100000
DTEND;TZID=America/New_York:20210321T110000
DTSTAMP:20260423T200235
CREATED:20210314T160000Z
LAST-MODIFIED:20210319T224905Z
UID:1230-1616320800-1616324400@wentzsucc.org
SUMMARY:Worship Service
DESCRIPTION:First spring flowers crocus as soon as snow descends in sunlight.\n\n\nJoin Wentz’s United Church of Christ for our weekly Sunday worship service on Zoom.
URL:https://wentzsucc.org/event/worship-service-3/
LOCATION:PA
ATTACH;FMTTYPE=image/jpeg:https://wentzsucc.org/wp-content/uploads/2021/03/crocus.jpg
END:VEVENT
BEGIN:VEVENT
DTSTART;TZID=America/New_York:20210314T100000
DTEND;TZID=America/New_York:20210314T110000
DTSTAMP:20260423T200235
CREATED:20210304T024857Z
LAST-MODIFIED:20210313T023321Z
UID:1228-1615716000-1615719600@wentzsucc.org
SUMMARY:Worship Service
DESCRIPTION:Join Wentz’s United Church of Christ for our weekly Sunday worship service on Zoom.
URL:https://wentzsucc.org/event/worship-service-2/
LOCATION:PA
ATTACH;FMTTYPE=image/jpeg:https://wentzsucc.org/wp-content/uploads/2021/02/winter-sunrise-e1619222314333.jpg
END:VEVENT
BEGIN:VEVENT
DTSTART;TZID=America/New_York:20210310T190000
DTEND;TZID=America/New_York:20210317T190000
DTSTAMP:20260423T200235
CREATED:20210207T141646Z
LAST-MODIFIED:20210307T205352Z
UID:779-1615402800-1616007600@wentzsucc.org
SUMMARY:Join Our Next Book-Led Discussion
DESCRIPTION:We encourage our members to read and reflect on the realities of living a Christian life.  And we look to our own experience and openness to what we are learning about each other and society.    \n\n\n\nHelp continue this critical conversation.  Together\, we are examining:   \n\n\n\nWhen Jesus Came to Harvard: Making Moral Choices Today by Harvey Cox  \n\n\n\nCox\, who was born in Phoenixville\, PA and grew up in Malvern PA\, taught at Harvard and tapped into a groundswell of students interested in Jesus.  Weekly discussions on Wednesday evenings beginning at 7 p.m.  You do not need to have read the book to participate in this open dialogue.  Community participation is encouraged.  
URL:https://wentzsucc.org/event/join-our-next-book-led-discussion/
LOCATION:PA
CATEGORIES:Bible,Book Study,Meetings
ATTACH;FMTTYPE=image/jpeg:https://wentzsucc.org/wp-content/uploads/2021/02/Harvey-Cox.jpg
END:VEVENT
BEGIN:VEVENT
DTSTART;TZID=America/New_York:20210310T190000
DTEND;TZID=America/New_York:20210310T200000
DTSTAMP:20260423T200235
CREATED:20210214T151804Z
LAST-MODIFIED:20210309T155735Z
UID:1054-1615402800-1615406400@wentzsucc.org
SUMMARY:When Jesus Came to Harvard
DESCRIPTION:We encourage our members to read and reflect on the realities of living a Christian life. And we look to our own experience and openness to what we are learning about each other and society. \nHelp continue this critical conversation. Together\, we are examining: \nWhen Jesus Came to Harvard: Making Moral Choices Today by Harvey Cox \nCox\, who was born in Phoenixville\, PA and grew up in Malvern PA\, taught at Harvard and tapped into a groundswell of students interested in Jesus.  Weekly discussions on Wednesday evenings beginning at 7 p.m. You do not need to have read the book to participate in this open dialogue. Community participation is encouraged.
URL:https://wentzsucc.org/event/when-jesus-came-to-harvard/
LOCATION:PA
CATEGORIES:Book Study
END:VEVENT
END:VCALENDAR